BEGIN:VCALENDAR
VERSION:2.0
PRODID:-//Alberta Neuroscience - ECPv6.15.20//NONSGML v1.0//EN
CALSCALE:GREGORIAN
METHOD:PUBLISH
X-ORIGINAL-URL:https://www.albertaneuro.ca
X-WR-CALDESC:Events for Alberta Neuroscience
REFRESH-INTERVAL;VALUE=DURATION:PT1H
X-Robots-Tag:noindex
X-PUBLISHED-TTL:PT1H
BEGIN:VTIMEZONE
TZID:America/Edmonton
BEGIN:DAYLIGHT
TZOFFSETFROM:-0700
TZOFFSETTO:-0600
TZNAME:MDT
DTSTART:20170312T090000
END:DAYLIGHT
BEGIN:STANDARD
TZOFFSETFROM:-0600
TZOFFSETTO:-0700
TZNAME:MST
DTSTART:20171105T080000
END:STANDARD
BEGIN:DAYLIGHT
TZOFFSETFROM:-0700
TZOFFSETTO:-0600
TZNAME:MDT
DTSTART:20180311T090000
END:DAYLIGHT
BEGIN:STANDARD
TZOFFSETFROM:-0600
TZOFFSETTO:-0700
TZNAME:MST
DTSTART:20181104T080000
END:STANDARD
BEGIN:DAYLIGHT
TZOFFSETFROM:-0700
TZOFFSETTO:-0600
TZNAME:MDT
DTSTART:20190310T090000
END:DAYLIGHT
BEGIN:STANDARD
TZOFFSETFROM:-0600
TZOFFSETTO:-0700
TZNAME:MST
DTSTART:20191103T080000
END:STANDARD
END:VTIMEZONE
BEGIN:VEVENT
DTSTART;TZID=America/Edmonton:20180201T130000
DTEND;TZID=America/Edmonton:20180201T140000
DTSTAMP:20260423T020719
CREATED:20180202T020020Z
LAST-MODIFIED:20180202T020020Z
UID:2281-1517490000-1517493600@www.albertaneuro.ca
SUMMARY:Advanced Imaging Seminar Series
DESCRIPTION:Mr. Luis Souto Maior\, BSc (MSc Candidate working with Dr. Richard Frayne\, Vascular Imaging Lab\, University of Calgary)\n\nTitle: “Automatic quality control on large medical imaging datasets using a hybrid machine learning model”.\n \nMr. Maior’s Research Page\n\n \nMr. Aron Sahand Talai\, BSc (MSc Candidate working with Dr. Nils Forkert\, Medical Image Processing and Machine Learning Lab\, University of Calgary)\n\nTitle: “Machine learning in Parkinson’s disease through T1/DTI biomarkers”.\n\nMr. Talai’s Research Page\n\n\n\n\nWhen: Thursday\, 1 February\, 2018\n \nTime:  1 to 2 pm\n\n \nWhere: HSC Theatre One (Foothills Campus)\n \nThis presentation will be video-linked with the University of Lethbridge
URL:https://www.albertaneuro.ca/event/advanced-imaging-seminar-series-7/
LOCATION:UofC HSC Theatre 1 (live site)\, UofL EP1201
END:VEVENT
BEGIN:VEVENT
DTSTART;TZID=America/Edmonton:20180202T120000
DTEND;TZID=America/Edmonton:20180202T130000
DTSTAMP:20260423T020719
CREATED:20180131T021626Z
LAST-MODIFIED:20180131T021626Z
UID:2266-1517572800-1517576400@www.albertaneuro.ca
SUMMARY:HBI Seminar Series
DESCRIPTION:Visiting guest Dr. Robert Malenka from Stanford University will be presenting “Neural Mechanisms of Social Reward” on Friday\, February 2nd\, 2018\, Noon-12:50 PM in HSC Theatre Four.
URL:https://www.albertaneuro.ca/event/hbi-seminar-series-15/
LOCATION:U of C\, HSC Theatre 4\, 3350 Hospital Drive NW\, Calgary\, AB\, T2N 4Z5\, Canada
END:VEVENT
BEGIN:VEVENT
DTSTART;TZID=America/Edmonton:20180209T120000
DTEND;TZID=America/Edmonton:20180209T130000
DTSTAMP:20260423T020719
CREATED:20180208T030409Z
LAST-MODIFIED:20180208T030409Z
UID:2290-1518177600-1518181200@www.albertaneuro.ca
SUMMARY:HBI Seminar Series
DESCRIPTION:Visiting guest Dr. John Huguenard from Stanford University will be presenting “Dynamics of the thalamocortical system in epilepsy” on Friday\, February 9th\, 2018\, Noon-12:50 PM in HSC Theatre One.
URL:https://www.albertaneuro.ca/event/hbi-seminar-series-16/
LOCATION:U of C\, HSC Theatre 1\, Calgary\, Alberta\, Canada
END:VEVENT
BEGIN:VEVENT
DTSTART;TZID=America/Edmonton:20180212T153000
DTEND;TZID=America/Edmonton:20180212T170000
DTSTAMP:20260423T020719
CREATED:20180123T031515Z
LAST-MODIFIED:20180123T031515Z
UID:2243-1518449400-1518454800@www.albertaneuro.ca
SUMMARY:HBI Seminar Series
DESCRIPTION:HBI Seminar Series \n§ Speaker: Manuel Hulliger – Title TBA \n§ 3:30pm \n§ University of Calgary\, HSC Library\, History of Medicine Room
URL:https://www.albertaneuro.ca/event/hbi-seminar-series-12/
END:VEVENT
BEGIN:VEVENT
DTSTART;TZID=America/Edmonton:20180215T113000
DTEND;TZID=America/Edmonton:20180215T123000
DTSTAMP:20260423T020719
CREATED:20180123T031626Z
LAST-MODIFIED:20180123T031626Z
UID:2244-1518694200-1518697800@www.albertaneuro.ca
SUMMARY:Cognitive Neuroscience Seminar
DESCRIPTION:Cognitive Neuroscience Seminar \nSpeaker: Benjamin Tucker – Title TBA \n11:30 am–12:30 pm \nUniversity of Alberta\, CAB-365
URL:https://www.albertaneuro.ca/event/cognitive-neuroscience-seminar-11/
END:VEVENT
BEGIN:VEVENT
DTSTART;TZID=America/Edmonton:20180215T120000
DTEND;TZID=America/Edmonton:20180215T130000
DTSTAMP:20260423T020719
CREATED:20180214T020844Z
LAST-MODIFIED:20180214T020844Z
UID:2292-1518696000-1518699600@www.albertaneuro.ca
SUMMARY:Alberta MS Network Seminar
DESCRIPTION:FEB 15 @ 12-12:50 Alberta MS Network Seminar\nDr. Patrizia Casaccia \nProfessor\, Dept. Neuroscience\, Dept. of Genomics and Multiscale Biology\nCGD Center for Multiple Sclerosis\nFriedman Brain Institute Center for Myelin Repair\nIcahn School of Medicine at Mount Sinai \n“Investigating Mechanisms of Disease Progression and Therapeutic Responses in MS” \nUofA ECHA Telus Centre 145\, UofC HSC O1500 (live site)\, UofL EP1201 SHC 410030
URL:https://www.albertaneuro.ca/event/alberta-ms-network-seminar-7/
LOCATION:UofA ECHA Telus Centre 145\, UofC HSC O1500 (live site)\, UofL EP1201 SHC 410030
END:VEVENT
BEGIN:VEVENT
DTSTART;TZID=America/Edmonton:20180216T120000
DTEND;TZID=America/Edmonton:20180216T130000
DTSTAMP:20260423T020719
CREATED:20180214T020648Z
LAST-MODIFIED:20180214T020648Z
UID:2291-1518782400-1518786000@www.albertaneuro.ca
SUMMARY:HBI Seminar Series
DESCRIPTION:Visiting guest Dr. Patrizia Casaccia from Icahn School of Medicine at Mount Sinai will be presenting “Oligodendrocytes as Environmental Sensors” on Friday\, February 16th\, 2018\, Noon-12:50 PM in HSC Theatre Four.
URL:https://www.albertaneuro.ca/event/hbi-seminar-series-17/
LOCATION:U of C\, HSC Theatre 4\, 3350 Hospital Drive NW\, Calgary\, AB\, T2N 4Z5\, Canada
END:VEVENT
BEGIN:VEVENT
DTSTART;TZID=America/Edmonton:20180216T150000
DTEND;TZID=America/Edmonton:20180216T160000
DTSTAMP:20260423T020719
CREATED:20180214T021902Z
LAST-MODIFIED:20180214T021902Z
UID:2295-1518793200-1518796800@www.albertaneuro.ca
SUMMARY:Alberta MS Journal Club
DESCRIPTION:FEB 16 @ 3-4:00 Journal Club\nDiscussant: Nathan Michaels\, PhD Candidate\, Yong Lab \nArticle: Dillenburg A\, Ireland G\, Holloway RK\, Davies CL\, Evans FL\, Swire M\, Bechler ME\, Soong D\, Yuen TJ\, Su GH\, Becher JC\, Smith C\, Williams A\, Miron VE. Activin receptors regulate the oligodendrocyte lineage in health and disease. Acta Neuropathol. 2018 Feb 3. \nHSC 750
URL:https://www.albertaneuro.ca/event/alberta-ms-journal-club/
LOCATION:UofC HSC 750
END:VEVENT
BEGIN:VEVENT
DTSTART;TZID=America/Edmonton:20180228T120000
DTEND;TZID=America/Edmonton:20180228T130000
DTSTAMP:20260423T020719
CREATED:20180214T022756Z
LAST-MODIFIED:20180214T022944Z
UID:2297-1519819200-1519822800@www.albertaneuro.ca
SUMMARY:Special Alberta MS Network Seminar
DESCRIPTION:FEB 28 @ 12-1:00 *Special Alberta MS Network Seminar and Calgary MS Rounds \nDr. Jeroen Geurts\, Associate Professor\, VU University Medical Centre\, Amsterdam\, and Dr. Bert t’Hart\, Professor\, University of Groningen\, Amsterdam. \nUofA TBD\, UofC FMC Coombs Theatre (live site)\, UofL EP1201 SHC 580088 \n* Lunch provided to those who RSVP by Feb 21 to info@albertamsnetwork.ca or t.lichtenberger@ucalgary.ca
URL:https://www.albertaneuro.ca/event/special-alberta-ms-network-seminar/
END:VEVENT
END:VCALENDAR