BEGIN:VCALENDAR
VERSION:2.0
PRODID:-//Alberta Neuroscience - ECPv6.15.20//NONSGML v1.0//EN
CALSCALE:GREGORIAN
METHOD:PUBLISH
X-WR-CALNAME:Alberta Neuroscience
X-ORIGINAL-URL:https://www.albertaneuro.ca
X-WR-CALDESC:Events for Alberta Neuroscience
REFRESH-INTERVAL;VALUE=DURATION:PT1H
X-Robots-Tag:noindex
X-PUBLISHED-TTL:PT1H
BEGIN:VTIMEZONE
TZID:America/Edmonton
BEGIN:DAYLIGHT
TZOFFSETFROM:-0700
TZOFFSETTO:-0600
TZNAME:MDT
DTSTART:20170312T090000
END:DAYLIGHT
BEGIN:STANDARD
TZOFFSETFROM:-0600
TZOFFSETTO:-0700
TZNAME:MST
DTSTART:20171105T080000
END:STANDARD
BEGIN:DAYLIGHT
TZOFFSETFROM:-0700
TZOFFSETTO:-0600
TZNAME:MDT
DTSTART:20180311T090000
END:DAYLIGHT
BEGIN:STANDARD
TZOFFSETFROM:-0600
TZOFFSETTO:-0700
TZNAME:MST
DTSTART:20181104T080000
END:STANDARD
BEGIN:DAYLIGHT
TZOFFSETFROM:-0700
TZOFFSETTO:-0600
TZNAME:MDT
DTSTART:20190310T090000
END:DAYLIGHT
BEGIN:STANDARD
TZOFFSETFROM:-0600
TZOFFSETTO:-0700
TZNAME:MST
DTSTART:20191103T080000
END:STANDARD
END:VTIMEZONE
BEGIN:VEVENT
DTSTART;TZID=America/Edmonton:20180129T183000
DTEND;TZID=America/Edmonton:20180129T200000
DTSTAMP:20260419T080029
CREATED:20180125T023236Z
LAST-MODIFIED:20180125T023236Z
UID:2257-1517250600-1517256000@www.albertaneuro.ca
SUMMARY:The Power of Storytelling to Improve Healthcare
DESCRIPTION:Monday\, January 29\, 2018\n6:30 to 8 p.m.\nBernard Snell Hall\nWalter C. Mackenzie Health Sciences Centre\nUniversity of Alberta Hospital\n8440 112 Street\, Edmonton\, AB\nfeaturing DR. VERNA YIU\nPresident & CEO\, Alberta Health Services\nProfessor of Pediatrics and Former interim Dean\, \nFaculty of Medicine & Dentistry\, University of Alberta \nUniversity of Alberta and Harvard University Alumna \n  \nAs healthcare in the 21st century charts new frontiers led by breathtaking advancements in technology\, there is a danger health systems could lose their focus on patients and families and be blinded to their physical\, emotional and spiritual needs. Dr. Verna Yiu will discuss how Alberta Health Services (AHS) is utilizing storytelling to help those working in healthcare recognize the power of relationships and understand how those one-on-one connections are crucial to achieving outstanding patient outcomes and experiences. Dr. Yiu’s presentation will include examples of AHS multimedia storytelling. \nTalk with Q & A discussion\nReception and poster presentation to follow \nEveryone is welcome. Admission is free.\nPlease RSVP (not required but welcome)\nThis event is hosted by Dr. Dennis Kunimoto\, Acting Dean\, and Dr. Pamela Brett-MacLean\, Director\, AHHM Program\, Faculty of Medicine & Dentistry\, University of Alberta
URL:https://www.albertaneuro.ca/event/the-power-of-storytelling-to-improve-healthcare/
LOCATION:Bernard Snell Hall\, 8440 112 St NW\, Edmonton\, Alberta\, T6G 2B7\, Canada
END:VEVENT
END:VCALENDAR